BEGIN:VCALENDAR
VERSION:2.0
PRODID:-//wp-events-plugin.com//7.2.3.1//EN
TZID:Europe/Berlin
X-WR-TIMEZONE:Europe/Berlin
BEGIN:VEVENT
UID:220@kielervorderladerverein.de
DTSTART;TZID=Europe/Berlin:20260605T090000
DTEND;TZID=Europe/Berlin:20260607T170000
DTSTAMP:20251231T164523Z
URL:https://kielervorderladerverein.de/termine/landesmeisterschaft-vorderl
 ader/
SUMMARY:Landesmeisterschaft Vorderlader
DESCRIPTION:
CATEGORIES:Landesmeisterschaft
LOCATION:Schießsport-Zentrum Quickborn\, Kugelfang 1\, Quickborn\, 25451\,
  Deutschland
X-APPLE-STRUCTURED-LOCATION;VALUE=URI;X-ADDRESS=Kugelfang 1\, Quickborn\, 2
 5451\, Deutschland;X-APPLE-RADIUS=100;X-TITLE=Schießsport-Zentrum Quickbo
 rn:geo:0,0
END:VEVENT
BEGIN:VTIMEZONE
TZID:Europe/Berlin
X-LIC-LOCATION:Europe/Berlin
BEGIN:DAYLIGHT
DTSTART:20260329T030000
TZOFFSETFROM:+0100
TZOFFSETTO:+0200
TZNAME:CEST
END:DAYLIGHT
END:VTIMEZONE
END:VCALENDAR